BEGIN:VCALENDAR
VERSION:2.0
BEGIN:VEVENT
SUMMARY:Reach out to University of Arizona Center for Innovation (UACI) about UACI Business Incubator Program
DESCRIPTION:Reach out to them for information about their program.\n\nDescription: Arizona's leading science and technology startup incubator network guiding startups through a 28-point roadmap from idea to market, with multiple Southern Arizona locations and specialized wet labs.\n\n- Email: info@uaci.com\n- Source: https://founder-nav.com/programs/recoBTM58VFjA8m5q\n\n---\nBrought to you by Founder Nav, helping entrepreneurs navigate the entrepreneurial ecosystem.
DTSTART:20260425T100059Z
DTEND:20260425T103059Z
END:VEVENT
END:VCALENDAR