BEGIN:VCALENDAR
VERSION:2.0
BEGIN:VEVENT
SUMMARY:Reach out to ISU Pappajohn Center for Entrepreneurship about Start Something Workshop Series
DESCRIPTION:Reach out to them for information about their program.\n\nDescription: Workshop series for ISU entrepreneurs covering key topics such as customer discovery, HR, co-founder agreements, and business planning fundamentals.\n\n- Email: info@isupjcenter.org\n- Source: https://founder-nav.com/programs/reco4LBVyhtJ7zNT3\n\n---\nBrought to you by Founder Nav, helping entrepreneurs navigate the entrepreneurial ecosystem.
DTSTART:20260425T100009Z
DTEND:20260425T103009Z
END:VEVENT
END:VCALENDAR