BEGIN:VCALENDAR
VERSION:2.0
BEGIN:VEVENT
SUMMARY:Reach out to ISU Pappajohn Center for Entrepreneurship about Bengal Solutions Business Consulting
DESCRIPTION:Reach out to them for information about their program.\n\nDescription: A student-driven consulting group at ISU's College of Business using graduate students (MBA, MHA, MAcc) to deliver low-cost business consulting in market research, business planning, grant writing, and feasibility studies.\n\n- Source: https://founder-nav.com/programs/reco1L7GzQayUf50c\n\n---\nBrought to you by Founder Nav, helping entrepreneurs navigate the entrepreneurial ecosystem.
DTSTART:20260425T100020Z
DTEND:20260425T103020Z
END:VEVENT
END:VCALENDAR