BEGIN:VCALENDAR
VERSION:2.0
BEGIN:VEVENT
SUMMARY:Reach out to Maryland Women’s Business Center Prince George’s County about Elements of Entrepreneurship Training Series
DESCRIPTION:Reach out to them for information about their program.\n\nDescription: A structured training series offered by the Maryland Women's Business Center that covers foundational entrepreneurship skills and business development topics. Sessions cover business planning, financial management, marketing, legal considerations, and other core areas for starting and growing a business.\n\n- Source: https://founder-nav.com/programs/recnyuxSS3AmTha3u\n\n---\nBrought to you by Founder Nav, helping entrepreneurs navigate the entrepreneurial ecosystem.
DTSTART:20260425T100029Z
DTEND:20260425T103029Z
END:VEVENT
END:VCALENDAR