BEGIN:VCALENDAR
VERSION:2.0
BEGIN:VEVENT
SUMMARY:Reach out to ISU Pappajohn Center for Entrepreneurship about Venture Mentoring Service
DESCRIPTION:Reach out to them for information about their program.\n\nDescription: Free team mentoring program using MIT VMS methodology, connecting startups with a team of experienced volunteer mentors for ongoing confidential guidance.\n\n- Email: info@isupjcenter.org\n- Source: https://founder-nav.com/programs/recntWAIHB7Q7mws9\n\n---\nBrought to you by Founder Nav, helping entrepreneurs navigate the entrepreneurial ecosystem.
DTSTART:20260426T100013Z
DTEND:20260426T103013Z
END:VEVENT
END:VCALENDAR