BEGIN:VCALENDAR
VERSION:2.0
BEGIN:VEVENT
SUMMARY:Reach out to Cañada College Menlo Park – Small Business Incubator about Trade Incubator
DESCRIPTION:Reach out to them for information about their program.\n\nDescription: Trains business owners to enter international markets through expert-led courses covering eCommerce, logistics, global marketing, export financing, and compliance, culminating in a personalized Export Plan to support business growth and access to U.S. Commercial Service resources.\n\n- Phone: (510) 730-0019\n- Email: kellyn@smccd.edu\n- Source: https://founder-nav.com/programs/recngJyB7QtrX1vJR\n\n---\nBrought to you by Founder Nav, helping entrepreneurs navigate the entrepreneurial ecosystem.
DTSTART:20260425T100000Z
DTEND:20260425T103000Z
END:VEVENT
END:VCALENDAR