BEGIN:VCALENDAR
VERSION:2.0
BEGIN:VEVENT
SUMMARY:Reach out to Arizona Business Incubator about Arizona Business Incubator Program
DESCRIPTION:Reach out to them for information about their program.\n\nDescription: A business incubator providing affordable workspace, business support services, mentorship, and training to early-stage startups and small businesses in Arizona.\n\n- Source: https://founder-nav.com/programs/recnW2oMItQ2LKJwW\n\n---\nBrought to you by Founder Nav, helping entrepreneurs navigate the entrepreneurial ecosystem.
DTSTART:20260425T100057Z
DTEND:20260425T103057Z
END:VEVENT
END:VCALENDAR