BEGIN:VCALENDAR
VERSION:2.0
BEGIN:VEVENT
SUMMARY:Reach out to Trailhead about Trail Guides Mentorship Program
DESCRIPTION:Reach out to them for information about their program.\n\nDescription: A mentorship program at Trailhead Boise connecting members with a network of seasoned professionals offering 30-minute office hour sessions across entrepreneurship, legal, tech, marketing, finance, HR, and more.\n\n- Email: info@trailheadboise.org\n- Source: https://founder-nav.com/programs/recnV4MK0N74elWCh\n\n---\nBrought to you by Founder Nav, helping entrepreneurs navigate the entrepreneurial ecosystem.
DTSTART:20260425T100022Z
DTEND:20260425T103022Z
END:VEVENT
END:VCALENDAR