BEGIN:VCALENDAR
VERSION:2.0
BEGIN:VEVENT
SUMMARY:Reach out to Alabama ASBDC Network about Disaster Assistance & Business Continuity Training
DESCRIPTION:Reach out to them for information about their program.\n\nDescription: The Alabama SBDC Network has determined that the best strategy to help minimize the impact of disasters on Alabama’s small business community involves A) getting the word out, and B) providing basic education and guidance on the simple steps that businesses can take to protect themselves.\n\n- Email: karla.jordan@ua.edu\n- Source: https://founder-nav.com/programs/recnUyi7kpbrQSyGT\n\n---\nBrought to you by Founder Nav, helping entrepreneurs navigate the entrepreneurial ecosystem.
DTSTART:20260425T100049Z
DTEND:20260425T103049Z
END:VEVENT
END:VCALENDAR