BEGIN:VCALENDAR
VERSION:2.0
BEGIN:VEVENT
SUMMARY:Reach out to SCORE Des Moines about Free Business Mentoring
DESCRIPTION:Reach out to them for information about their program.\n\nDescription: Free, confidential one-on-one business mentoring from volunteer executives and entrepreneurs helping Des Moines area small businesses start, grow, and succeed at any stage.\n\n- Phone: (800) 634-0245\n- Source: https://founder-nav.com/programs/recnEwN5VdpMh9eHB\n\n---\nBrought to you by Founder Nav, helping entrepreneurs navigate the entrepreneurial ecosystem.
DTSTART:20260425T100031Z
DTEND:20260425T103031Z
END:VEVENT
END:VCALENDAR