BEGIN:VCALENDAR
VERSION:2.0
BEGIN:VEVENT
SUMMARY:Reach out to Larta Institute about Venture Fellows
DESCRIPTION:Reach out to them for information about their program.\n\nDescription: Offers an eight-month, no-cost accelerator for innovators piloting solutions to environmental and resilience challenges in Los Angeles, providing mentorship, technical assistance, and connections to partners to help scale impactful projects for at-risk communities.\n\n- Phone: (213) 694-2826\n- Email: lmacias@larta.org\n- Source: https://founder-nav.com/programs/recn9SmT2IufkYANA\n\n---\nBrought to you by Founder Nav, helping entrepreneurs navigate the entrepreneurial ecosystem.
DTSTART:20260425T100059Z
DTEND:20260425T103059Z
END:VEVENT
END:VCALENDAR