BEGIN:VCALENDAR
VERSION:2.0
BEGIN:VEVENT
SUMMARY:Reach out to California Asian Pacific Chamber of Commerce about Small Business Utilization Center (SBUC)
DESCRIPTION:Reach out to them for information about their program.\n\nDescription: Procurement and contracting training program that helps small and minority-owned businesses compete for government and corporate contracts.\n\n- Phone: (916) 446-7883\n- Email: info@calasiancc.org\n- Source: https://founder-nav.com/programs/recn3JvMPrbxpzQvt\n\n---\nBrought to you by Founder Nav, helping entrepreneurs navigate the entrepreneurial ecosystem.
DTSTART:20260425T100055Z
DTEND:20260425T103055Z
END:VEVENT
END:VCALENDAR