BEGIN:VCALENDAR
VERSION:2.0
BEGIN:VEVENT
SUMMARY:Reach out to Global Insurance Accelerator about 100-Day Accelerator Program
DESCRIPTION:Reach out to them for information about their program.\n\nDescription: 100-day hybrid accelerator for early-stage insurtech startups, providing $50K equity investment, 75+ mentor network, and a culminating pitch at the Global Insurance Symposium.\n\n- Phone: (515) 835-1614\n- Email: jess@globalinsuranceaccelerator.com\n- Source: https://founder-nav.com/programs/recmvyTWCBXHQJrcR\n\n---\nBrought to you by Founder Nav, helping entrepreneurs navigate the entrepreneurial ecosystem.
DTSTART:20260425T100017Z
DTEND:20260425T103017Z
END:VEVENT
END:VCALENDAR