BEGIN:VCALENDAR
VERSION:2.0
BEGIN:VEVENT
SUMMARY:Reach out to Carlsen Center for Innovation & Entrepreneurship about Ecosystem Partner Workshops
DESCRIPTION:Reach out to them for information about their program.\n\nDescription: Offers hands-on learning and experiential events to develop entrepreneurial mindsets in students, featuring workshops led by regional partners and experienced entrepreneurs on topics like innovation, intellectual property, and startup development.\n\n- Phone: (916) 278-5001\n- Source: https://founder-nav.com/programs/recmtZFOMBM2OwzaV\n\n---\nBrought to you by Founder Nav, helping entrepreneurs navigate the entrepreneurial ecosystem.
DTSTART:20260425T100035Z
DTEND:20260425T103035Z
END:VEVENT
END:VCALENDAR