BEGIN:VCALENDAR
VERSION:2.0
BEGIN:VEVENT
SUMMARY:Reach out to Mtech Ventures about Mtech Ventures Incubator
DESCRIPTION:Reach out to them for information about their program.\n\nDescription: A University of Maryland incubator for technology-based innovations commercialized at the university, helping early-stage startups survive the critical period between customer discovery and raising their first venture capital round. Provides affordable lab and office space, hands-on mentoring, student intern connections, and access to the University System of Maryland's extensive research facilities.\n\n- Phone: (301) 405-3906\n- Source: https://founder-nav.com/programs/recmt1rojHWQ3A8jC\n\n---\nBrought to you by Founder Nav, helping entrepreneurs navigate the entrepreneurial ecosystem.
DTSTART:20260425T100036Z
DTEND:20260425T103036Z
END:VEVENT
END:VCALENDAR