BEGIN:VCALENDAR
VERSION:2.0
BEGIN:VEVENT
SUMMARY:Reach out to CEI – LabForce about CEI LabForce Innovation Hub
DESCRIPTION:Reach out to them for information about their program.\n\nDescription: A Downtown Phoenix coworking and innovation hub operated by CEI offering entrepreneurship programming, workforce development training, virtual and in-person events, and flexible workspace for tech innovators.\n\n- Phone: (602) 286-8950\n- Source: https://founder-nav.com/programs/recmrAOimtrq8TJSn\n\n---\nBrought to you by Founder Nav, helping entrepreneurs navigate the entrepreneurial ecosystem.
DTSTART:20260425T100058Z
DTEND:20260425T103058Z
END:VEVENT
END:VCALENDAR