BEGIN:VCALENDAR
VERSION:2.0
BEGIN:VEVENT
SUMMARY:Reach out to Northwest Kansas Economic Innovation Center about Business Services Consulting & Mentorship
DESCRIPTION:Reach out to them for information about their program.\n\nDescription: Consulting and mentorship program identifying opportunities and addressing challenges for businesses across 26 counties in Northwest Kansas, including gap funding and business planning support.\n\n- Phone: (785) 874-5150\n- Source: https://founder-nav.com/programs/recmkiUeur4XRoEYG\n\n---\nBrought to you by Founder Nav, helping entrepreneurs navigate the entrepreneurial ecosystem.
DTSTART:20260425T100008Z
DTEND:20260425T103008Z
END:VEVENT
END:VCALENDAR