BEGIN:VCALENDAR
VERSION:2.0
BEGIN:VEVENT
SUMMARY:Reach out to University of Alaska Fairbanks about UAF Innovation Accelerator
DESCRIPTION:Reach out to them for information about their program.\n\nDescription: Alaska's first university-based innovation accelerator supporting the development and commercialization of research-driven ideas into real-world solutions through a structured 9-component program.\n\n- Email: centerice@alaska.edu\n- Source: https://founder-nav.com/programs/recma9HQFX9QkFdtB\n\n---\nBrought to you by Founder Nav, helping entrepreneurs navigate the entrepreneurial ecosystem.
DTSTART:20260425T100030Z
DTEND:20260425T103030Z
END:VEVENT
END:VCALENDAR