BEGIN:VCALENDAR
VERSION:2.0
BEGIN:VEVENT
SUMMARY:Reach out to Arizona Regional Economic Development Foundation (AREDF) – Co-Spaces about AREDF Co-Spaces & Cochise Ignite Innovation Hub
DESCRIPTION:Reach out to them for information about their program.\n\nDescription: Two business development co-working spaces in the Sierra Vista area operated by AREDF, housing entrepreneurs in the startup and development stages with business counseling, marketing support, and access to the new Community Innovation Center (3D printers, laser engravers, computer labs, digital navigators).\n\n- Phone: (520) 458-6948\n- Email: pachecos@aredf.org\n- Source: https://founder-nav.com/programs/recmPxEytDYWln9QQ\n\n---\nBrought to you by Founder Nav, helping entrepreneurs navigate the entrepreneurial ecosystem.
DTSTART:20260425T100002Z
DTEND:20260425T103002Z
END:VEVENT
END:VCALENDAR