BEGIN:VCALENDAR
VERSION:2.0
BEGIN:VEVENT
SUMMARY:Reach out to ETC Baltimore about Pioneer Baltimore (Pre-Accelerator Bootcamp)
DESCRIPTION:Reach out to them for information about their program.\n\nDescription: 9-week idea-stage bootcamp powered by COSTARTERS, helping working professionals test and develop tech business ideas toward commercialization.\n\n- Phone: (410) 327-9150\n- Email: info@etcbaltimore.com\n- Source: https://founder-nav.com/programs/recmOVMfUJzYkwpde\n\n---\nBrought to you by Founder Nav, helping entrepreneurs navigate the entrepreneurial ecosystem.
DTSTART:20260425T100016Z
DTEND:20260425T103016Z
END:VEVENT
END:VCALENDAR