BEGIN:VCALENDAR
VERSION:2.0
BEGIN:VEVENT
SUMMARY:Reach out to The Emerging Enterprise Center (EEC) about Delaware Entrepreneurial Summit
DESCRIPTION:Reach out to them for information about their program.\n\nDescription: Annual summit featuring keynotes, workshops, and networking opportunities connecting Delaware entrepreneurs with mentors and resource providers.\n\n- Phone: (302) 737-4343\n- Email: info@eecincubator.com\n- Source: https://founder-nav.com/programs/recmNwPcWCW5QcqoR\n\n---\nBrought to you by Founder Nav, helping entrepreneurs navigate the entrepreneurial ecosystem.
DTSTART:20260425T100023Z
DTEND:20260425T103023Z
END:VEVENT
END:VCALENDAR