BEGIN:VCALENDAR
VERSION:2.0
BEGIN:VEVENT
SUMMARY:Reach out to Western Kentucky University about WKU Small Business Accelerator
DESCRIPTION:Reach out to them for information about their program.\n\nDescription: Designed to serve the unique needs of start-up and early stage companies. We strive to develop programs tailored to entrepreneurs and to establish strategic partnerships to support our clients by leveraging key local, regional and state business development resources.\n\n- Phone: (270) 901-3490\n- Email: william.hook@wku.edu\n- Source: https://founder-nav.com/programs/recmLWbbX9f4ghMZx\n\n---\nBrought to you by Founder Nav, helping entrepreneurs navigate the entrepreneurial ecosystem.
DTSTART:20260425T100050Z
DTEND:20260425T103050Z
END:VEVENT
END:VCALENDAR