BEGIN:VCALENDAR
VERSION:2.0
BEGIN:VEVENT
SUMMARY:Reach out to Maine Center for Biomedical Innovation (MDIBL) about Maine Center for Biomedical Innovation (MCBI) Incubator
DESCRIPTION:Reach out to them for information about their program.\n\nDescription: A life sciences incubator at the MDI Biological Laboratory in Bar Harbor, established in 2017 with state funding. Offers turnkey wet lab and office space, diverse animal models (zebrafish, axolotl, nematode), advanced microscopy, contract research, and business mentorship for biotech startups.\n\n- Phone: (207) 288-9880\n- Email: mcbi@mdibl.org\n- Source: https://founder-nav.com/programs/recmJjQd9HGFfvknI\n\n---\nBrought to you by Founder Nav, helping entrepreneurs navigate the entrepreneurial ecosystem.
DTSTART:20260425T100043Z
DTEND:20260425T103043Z
END:VEVENT
END:VCALENDAR