BEGIN:VCALENDAR
VERSION:2.0
BEGIN:VEVENT
SUMMARY:Reach out to HiReady about Hawaii Food Systems Accelerator
DESCRIPTION:Reach out to them for information about their program.\n\nDescription: Dual-cohort accelerator by HiReady focusing on strengthening Hawaii's local food systems. Runs parallel Enterprise and Funder cohorts to align capital with Hawaii food system enterprises and build a more resilient local food economy.\n\n- Email: info@hireadyhawaii.org\n- Source: https://founder-nav.com/programs/recm7lKfKkmd0PMv9\n\n---\nBrought to you by Founder Nav, helping entrepreneurs navigate the entrepreneurial ecosystem.
DTSTART:20260425T100005Z
DTEND:20260425T103005Z
END:VEVENT
END:VCALENDAR