BEGIN:VCALENDAR
VERSION:2.0
BEGIN:VEVENT
SUMMARY:Reach out to Startup UMD about Dingman Center Terp Startup Accelerator
DESCRIPTION:Reach out to them for information about their program.\n\nDescription: An 8-week summer accelerator for University of Maryland students and recent alumni. Selects a cohort of 12 teams from 35+ applicants. Each team receives a $5K non-dilutive stipend, a dedicated mentor, and access to weekly workshops. Concludes with a Demo Day. Graduates become eligible for the Terp Startup Fellows program, which provides up to $20K in additional funding.\n\n- Source: https://founder-nav.com/programs/recm2dIlUBwRKv5Ik\n\n---\nBrought to you by Founder Nav, helping entrepreneurs navigate the entrepreneurial ecosystem.
DTSTART:20260425T100049Z
DTEND:20260425T103049Z
END:VEVENT
END:VCALENDAR