BEGIN:VCALENDAR
VERSION:2.0
BEGIN:VEVENT
SUMMARY:Reach out to CT APEX Accelerator – Norwich about Government Procurement Training & Assistance
DESCRIPTION:Reach out to them for information about their program.\n\nDescription: CT APEX Accelerator provides free counseling, training, and assistance to CT businesses looking to sell to federal, state, or local governments.\n\n- Phone: (860) 437-4659\n- Source: https://founder-nav.com/programs/recllo1aMU2xvtpaF\n\n---\nBrought to you by Founder Nav, helping entrepreneurs navigate the entrepreneurial ecosystem.
DTSTART:20260425T100035Z
DTEND:20260425T103035Z
END:VEVENT
END:VCALENDAR