BEGIN:VCALENDAR
VERSION:2.0
BEGIN:VEVENT
SUMMARY:Reach out to Maine Center for Entrepreneurs (MCE) about BioStartup
DESCRIPTION:Reach out to them for information about their program.\n\nDescription: A 15-week online cohort-based accelerator for Maine biotech, digital health, life sciences, and medical device entrepreneurs, combining curriculum-based training with one-on-one coaching.\n\n- Source: https://founder-nav.com/programs/recllHEz81et5lAmR\n\n---\nBrought to you by Founder Nav, helping entrepreneurs navigate the entrepreneurial ecosystem.
DTSTART:20260425T100055Z
DTEND:20260425T103055Z
END:VEVENT
END:VCALENDAR