BEGIN:VCALENDAR
VERSION:2.0
BEGIN:VEVENT
SUMMARY:Reach out to Carlsen Center for Innovation & Entrepreneurship about Innovation Lab
DESCRIPTION:Reach out to them for information about their program.\n\nDescription: Empowers students to rapidly validate ideas, build prototypes, and gain traction through hands-on learning, mentorship, and milestone-based progression, preparing them for startup launch and pitch competitions in a collaborative, supportive environment.\n\n- Phone: (916) 278-5001\n- Email: carlsen.center@csus.edu\n- Source: https://founder-nav.com/programs/recljTN5ZI7NBLsxv\n\n---\nBrought to you by Founder Nav, helping entrepreneurs navigate the entrepreneurial ecosystem.
DTSTART:20260425T100045Z
DTEND:20260425T103045Z
END:VEVENT
END:VCALENDAR