BEGIN:VCALENDAR
VERSION:2.0
BEGIN:VEVENT
SUMMARY:Reach out to Coastal Enterprises, Inc. (CEI) about Child Care Business Lab (Incubator)
DESCRIPTION:Reach out to them for information about their program.\n\nDescription: A free incubator program helping aspiring child care business owners start and operate licensed, financially sustainable home-based or facility child care enterprises across Maine.\n\n- Email: childcare@ceimaine.org\n- Source: https://founder-nav.com/programs/recliDUmUQ4Vx0Wwb\n\n---\nBrought to you by Founder Nav, helping entrepreneurs navigate the entrepreneurial ecosystem.
DTSTART:20260425T100011Z
DTEND:20260425T103011Z
END:VEVENT
END:VCALENDAR