BEGIN:VCALENDAR
VERSION:2.0
BEGIN:VEVENT
SUMMARY:Reach out to America’s SBDC Iowa (State Office) about Practical Business Training Workshops
DESCRIPTION:Reach out to them for information about their program.\n\nDescription: Affordable, practical business training workshops covering business planning, marketing, finance, and operations for Iowa entrepreneurs and small business owners through the statewide SBDC network.\n\n- Phone: (515) 294-2030\n- Email: iowasbdc@iastate.edu\n- Source: https://founder-nav.com/programs/recldPR6VyhstTNls\n\n---\nBrought to you by Founder Nav, helping entrepreneurs navigate the entrepreneurial ecosystem.
DTSTART:20260425T100054Z
DTEND:20260425T103054Z
END:VEVENT
END:VCALENDAR