BEGIN:VCALENDAR
VERSION:2.0
BEGIN:VEVENT
SUMMARY:Reach out to APEX Accelerator New Castle County about Government Contracting Training & Counseling
DESCRIPTION:Reach out to them for information about their program.\n\nDescription: Delaware APEX Accelerator (formerly PTAC), operated by UD's OEIP, provides no-cost training and one-on-one counseling to Delaware businesses seeking to sell products and services to federal, state, and local government agencies. Services include help with registrations, certifications, bid preparation, contract specifications, and procurement compliance, serving the Defense Industrial Base and broader government market.\n\n- Phone: (302) 831-0780\n- Source: https://founder-nav.com/programs/recld7mnluPGo9kYB\n\n---\nBrought to you by Founder Nav, helping entrepreneurs navigate the entrepreneurial ecosystem.
DTSTART:20260425T100003Z
DTEND:20260425T103003Z
END:VEVENT
END:VCALENDAR