BEGIN:VCALENDAR
VERSION:2.0
BEGIN:VEVENT
SUMMARY:Reach out to Silicon Flatirons Center for Law, Technology, and Entrepreneurship about Startup Summer
DESCRIPTION:Reach out to them for information about their program.\n\nDescription: 10-week summer program for undergraduate students and recent grads interning at Colorado Front Range startups, guiding them through startup ideation and creation with weekly sessions from founders and C-level execs, culminating in a pitch competition.\n\n- Phone: (303) 492-8047\n- Email: siliconflatirons@colorado.edu\n- Source: https://founder-nav.com/programs/reclYYphVxjBCwdy8\n\n---\nBrought to you by Founder Nav, helping entrepreneurs navigate the entrepreneurial ecosystem.
DTSTART:20260425T100019Z
DTEND:20260425T103019Z
END:VEVENT
END:VCALENDAR