BEGIN:VCALENDAR
VERSION:2.0
BEGIN:VEVENT
SUMMARY:Reach out to Defense Innovation OnRamp Hub: Kansas about Innovate & Elevate
DESCRIPTION:Reach out to them for information about their program.\n\nDescription: Program helping innovators and startups refine, prototype, and scale their technologies while connecting with DoD mission partners, funding opportunities, and defense industry networks.\n\n- Phone: (316) 978-2705\n- Source: https://founder-nav.com/programs/reclE27PF6K2HzuDT\n\n---\nBrought to you by Founder Nav, helping entrepreneurs navigate the entrepreneurial ecosystem.
DTSTART:20260425T100054Z
DTEND:20260425T103054Z
END:VEVENT
END:VCALENDAR