BEGIN:VCALENDAR
VERSION:2.0
BEGIN:VEVENT
SUMMARY:Reach out to Alameda County SBDC (East Bay SBDC) about Foodpreneur Cohort
DESCRIPTION:Reach out to them for information about their program.\n\nDescription: Provides personalized, no-cost advising and training for food and hospitality businesses, connecting clients with industry experts to support startup, growth, and operations, including specialized programs for artisan foods, food trucks, and packaged goods.\n\n- Phone: (510) 885-4801\n- Source: https://founder-nav.com/programs/reckyqOSyxg3gTD5K\n\n---\nBrought to you by Founder Nav, helping entrepreneurs navigate the entrepreneurial ecosystem.
DTSTART:20260425T100026Z
DTEND:20260425T103026Z
END:VEVENT
END:VCALENDAR