BEGIN:VCALENDAR
VERSION:2.0
BEGIN:VEVENT
SUMMARY:Reach out to 757 Collab about The Entrepreneurial Hub Capital Readiness
DESCRIPTION:Reach out to them for information about their program.\n\nDescription: Legal, accounting, and financial advisory services for all types of businesses.\n\n- Phone: (804) 404-5443\n- Source: https://founder-nav.com/programs/reckqHTfJsFLmBiKE\n\n---\nBrought to you by Founder Nav, helping entrepreneurs navigate the entrepreneurial ecosystem.
DTSTART:20260425T100044Z
DTEND:20260425T103044Z
END:VEVENT
END:VCALENDAR