BEGIN:VCALENDAR
VERSION:2.0
BEGIN:VEVENT
SUMMARY:Reach out to Howard County Economic Development Authority about HoCo Higher Business Accelerator Program
DESCRIPTION:Reach out to them for information about their program.\n\nDescription: Free 8-week bootcamp for early-stage and historically underserved entrepreneurs in Howard County, teaching business fundamentals with M&T Bank, culminating in a shark-tank-style pitch competition with cash prizes.\n\n- Source: https://founder-nav.com/programs/reckpAU6ENcY4ro5b\n\n---\nBrought to you by Founder Nav, helping entrepreneurs navigate the entrepreneurial ecosystem.
DTSTART:20260425T100004Z
DTEND:20260425T103004Z
END:VEVENT
END:VCALENDAR