BEGIN:VCALENDAR
VERSION:2.0
BEGIN:VEVENT
SUMMARY:Reach out to UpStart Maine about Mastermind Program
DESCRIPTION:Reach out to them for information about their program.\n\nDescription: A facilitated monthly peer-group program connecting Maine entrepreneurs to share ideas, challenges, and advice—including a specialized Food Entrepreneur Mastermind cohort.\n\n- Phone: (207) 866-2406\n- Email: innovation@upstartmaine.org\n- Source: https://founder-nav.com/programs/reckmNFvnorTlolgK\n\n---\nBrought to you by Founder Nav, helping entrepreneurs navigate the entrepreneurial ecosystem.
DTSTART:20260425T100041Z
DTEND:20260425T103041Z
END:VEVENT
END:VCALENDAR