BEGIN:VCALENDAR
VERSION:2.0
BEGIN:VEVENT
SUMMARY:Reach out to Launch Lawrence about Sketchpad (Weekly Entrepreneur Discussion Series)
DESCRIPTION:Reach out to them for information about their program.\n\nDescription: Free weekly open discussion series in Lawrence for entrepreneurs at any stage to get informal feedback on business ideas, work through pitch decks, ask questions, and connect with the local startup community and experienced entrepreneurs.\n\n- Source: https://founder-nav.com/programs/reckeoiHau1dCdSx4\n\n---\nBrought to you by Founder Nav, helping entrepreneurs navigate the entrepreneurial ecosystem.
DTSTART:20260425T100025Z
DTEND:20260425T103025Z
END:VEVENT
END:VCALENDAR