BEGIN:VCALENDAR
VERSION:2.0
BEGIN:VEVENT
SUMMARY:Reach out to Activate Global Inc.  about Activate Fellowship
DESCRIPTION:Reach out to them for information about their program.\n\nDescription: A 2-year immersive fellowship for entrepreneurial scientists and engineers building hard tech startups. Provides living stipend, $350K+ in direct support, mentorship, and access to research infrastructure. Locations in Berkeley, Boston, Houston, New York, and remote (Anywhere).\n\n- Source: https://founder-nav.com/programs/reckbLL1tJWyLHddX\n\n---\nBrought to you by Founder Nav, helping entrepreneurs navigate the entrepreneurial ecosystem.
DTSTART:20260425T100021Z
DTEND:20260425T103021Z
END:VEVENT
END:VCALENDAR