BEGIN:VCALENDAR
VERSION:2.0
BEGIN:VEVENT
SUMMARY:Reach out to Frederick County Office of Economic Development about EmPOWER Accelerator Program
DESCRIPTION:Reach out to them for information about their program.\n\nDescription: A free 10-week virtual accelerator (Wednesdays, 5-6:30 PM) in partnership with M&T Bank. Covers business planning, finance, capital access, marketing, legal, and pitching. Includes a pitch competition with cash prizes. Graduates may apply for the EmPOWER Loan Program offering up to $10K via LEDC CDFI and Maryland's DHCD. Designed for racially and ethnically diverse entrepreneurs in Frederick County.\n\n- Phone: (301) 600-1058\n- Email: info@frederickcountymd.gov\n- Source: https://founder-nav.com/programs/reckZnkajbEkDNGMM\n\n---\nBrought to you by Founder Nav, helping entrepreneurs navigate the entrepreneurial ecosystem.
DTSTART:20260425T100014Z
DTEND:20260425T103014Z
END:VEVENT
END:VCALENDAR