BEGIN:VCALENDAR
VERSION:2.0
BEGIN:VEVENT
SUMMARY:Reach out to Prince George's County Economic Development Corporation about Seed Spot Impact Accelerator
DESCRIPTION:Reach out to them for information about their program.\n\nDescription: Event-based impact accelerator program hosted at ISBI in partnership with Seed Spot, focused on social innovation and early-stage entrepreneurship.\n\n- Source: https://founder-nav.com/programs/reckZH2dUc1R9tKKC\n\n---\nBrought to you by Founder Nav, helping entrepreneurs navigate the entrepreneurial ecosystem.
DTSTART:20260425T100037Z
DTEND:20260425T103037Z
END:VEVENT
END:VCALENDAR