BEGIN:VCALENDAR
VERSION:2.0
BEGIN:VEVENT
SUMMARY:Reach out to Larta Institute about NSF SBIR/STTR Commercialization Accelerator Programs (CAP)
DESCRIPTION:Reach out to them for information about their program.\n\nDescription: Provides startups with one-on-one, customized commercialization support, leveraging a national and international network of technology and science experts. Participation is free for NSF SBIR/STTR Phase II grantees, funded by the NSF CAP Supplement.\n\n- Phone: (213) 694-2826\n- Email: ssenko@larta.org\n- Source: https://founder-nav.com/programs/reckRk9BhSbjgg6AQ\n\n---\nBrought to you by Founder Nav, helping entrepreneurs navigate the entrepreneurial ecosystem.
DTSTART:20260425T100004Z
DTEND:20260425T103004Z
END:VEVENT
END:VCALENDAR