BEGIN:VCALENDAR
VERSION:2.0
BEGIN:VEVENT
SUMMARY:Reach out to Unknown Hub about Trainning - SAMA
DESCRIPTION:Reach out to them for information about their program.\n\nDescription: Provides educational resources, training, and technical assistance in English and Spanish for small business owners, entrepreneurs, and employees in Connecticut, covering management, financial literacy, technology, health, safety, and business development strategies throughout the year.\n\n- Phone: (860) 278-5825\n- Source: https://founder-nav.com/programs/reckJ5des91CT5OkZ\n\n---\nBrought to you by Founder Nav, helping entrepreneurs navigate the entrepreneurial ecosystem.
DTSTART:20260425T100047Z
DTEND:20260425T103047Z
END:VEVENT
END:VCALENDAR