BEGIN:VCALENDAR
VERSION:2.0
BEGIN:VEVENT
SUMMARY:Reach out to Innovate Alabama about QuantHub Alabama Data Scholars
DESCRIPTION:Reach out to them for information about their program.\n\nDescription: The paid summer internship program places Alabama high school juniors and seniors into 8-week paid learning experiences at Alabama-based employers that creatively use data. The summer program offers interns hands-on experience with AI and data science as well as critical professional development. Participating interns and businesses get the chance to shape the future of Alabama’s tech scene in this pilot program.\n\n\n- Email: kbickett@quanthub.com\n- Source: https://founder-nav.com/programs/reck7qK9ZNZMQuGmm\n\n---\nBrought to you by Founder Nav, helping entrepreneurs navigate the entrepreneurial ecosystem.
DTSTART:20260425T100025Z
DTEND:20260425T103025Z
END:VEVENT
END:VCALENDAR