BEGIN:VCALENDAR
VERSION:2.0
BEGIN:VEVENT
SUMMARY:Reach out to Midland Institute for Entrepreneurship about Montgomery CEO Business Investors
DESCRIPTION:Reach out to them for information about their program.\n\nDescription: Prepares people, especially youth, to be responsible, enterprising individuals who become entrepreneurs or entrepreneurial thinkers and contribute to economic development and sustainable communities.\n\n- Phone: (502) 354-8816\n- Email: cegelston@midlandinstitute.com\n- Source: https://founder-nav.com/programs/recjzx2iorUQuPokC\n\n---\nBrought to you by Founder Nav, helping entrepreneurs navigate the entrepreneurial ecosystem.
DTSTART:20260425T100047Z
DTEND:20260425T103047Z
END:VEVENT
END:VCALENDAR