BEGIN:VCALENDAR
VERSION:2.0
BEGIN:VEVENT
SUMMARY:Reach out to Enterprise Center in Johnson County (ECJC) about Growth Mentoring Service (GMS)
DESCRIPTION:Reach out to them for information about their program.\n\nDescription: MIT-model mentoring program pairing growth-stage founders (1+ year in business with revenue) with a team of experienced volunteer mentors to help scale to the next level.\n\n- Source: https://founder-nav.com/programs/recjmpM8C8CPzKh7k\n\n---\nBrought to you by Founder Nav, helping entrepreneurs navigate the entrepreneurial ecosystem.
DTSTART:20260425T100037Z
DTEND:20260425T103037Z
END:VEVENT
END:VCALENDAR