BEGIN:VCALENDAR
VERSION:2.0
BEGIN:VEVENT
SUMMARY:Reach out to Unknown Hub about Startup Incubator
DESCRIPTION:Reach out to them for information about their program.\n\nDescription: Provides early-stage startups with mentorship, resources, and a collaborative environment to help founders develop their ideas, build networks, and accelerate business growth.\n\n- Source: https://founder-nav.com/programs/recjmh9JgTnIaB68M\n\n---\nBrought to you by Founder Nav, helping entrepreneurs navigate the entrepreneurial ecosystem.
DTSTART:20260425T100051Z
DTEND:20260425T103051Z
END:VEVENT
END:VCALENDAR