BEGIN:VCALENDAR
VERSION:2.0
BEGIN:VEVENT
SUMMARY:Reach out to Renaissance Entrepreneurship Center – North Fair Oaks about North Fair Oaks Entrepreneurship Program
DESCRIPTION:Reach out to them for information about their program.\n\nDescription: Business training and consulting for entrepreneurs in the North Fair Oaks unincorporated community (Southern San Mateo County). Opened in 2023, serves one of the Bay Area's most underserved communities with English- and Spanish-language programming, business planning support, and connections to capital and resource networks.\n\n- Phone: (415) 541-8580\n- Source: https://founder-nav.com/programs/recjlziYEJqRhbX6I\n\n---\nBrought to you by Founder Nav, helping entrepreneurs navigate the entrepreneurial ecosystem.
DTSTART:20260425T100004Z
DTEND:20260425T103004Z
END:VEVENT
END:VCALENDAR