BEGIN:VCALENDAR
VERSION:2.0
BEGIN:VEVENT
SUMMARY:Reach out to ClimateHaven about ClimateHaven Incubator Program
DESCRIPTION:Reach out to them for information about their program.\n\nDescription: Equips founders with tools, expertise, and a network to develop and scale climate solutions, offering tailored support, workspace, mentorship, strategic partnerships, and access to exclusive events and amenities for climate tech startups.\n\n- Phone: (203) 850-7025\n- Email: info@climatehaven.tech\n- Source: https://founder-nav.com/programs/recjkpY0rR5mqJaJx\n\n---\nBrought to you by Founder Nav, helping entrepreneurs navigate the entrepreneurial ecosystem.
DTSTART:20260425T100053Z
DTEND:20260425T103053Z
END:VEVENT
END:VCALENDAR