BEGIN:VCALENDAR
VERSION:2.0
BEGIN:VEVENT
SUMMARY:Reach out to Arizona Association for Economic Development (AAED) about AAED Emerging Leaders Mentorship Program
DESCRIPTION:Reach out to them for information about their program.\n\nDescription: A mentorship and leadership development program for early-career economic development professionals in Arizona, pairing emerging leaders with experienced mentors for career advancement and professional growth.\n\n- Source: https://founder-nav.com/programs/recjjc5mfMd0nqcf1\n\n---\nBrought to you by Founder Nav, helping entrepreneurs navigate the entrepreneurial ecosystem.
DTSTART:20260425T100048Z
DTEND:20260425T103048Z
END:VEVENT
END:VCALENDAR